BEGIN:VCALENDAR
VERSION:2.0
CALSCALE:GREGORIAN
METHOD:PUBLISH
PRODID://NJWA//516990
BEGIN:VEVENT
DTSTAMP:20260424T094945
VTIMEZONE:America/New_York
DTSTART:20260326T123000Z
DTEND:20260326T184500Z
UID:516990
SUMMARY:Trenchless Rehabilitation Technologies -#04-082501-30 (Monmouth) 
LOCATION:Joseph T. Walsh Leadership Training Center, 4806 Route 33, Wall, NJ, 07753
DESCRIPTION:Trenchless Rehabilitation Technologies -#04-082501-30 (Monmouth) \n\n03/26/26 08:30 AM EST\n - 03/26/26 02:45 PM EST\Description:\nFlexible Fabric-Reinforced Pipe (FFRP) and Spray-in-Place Pipe (SIPP) for Pipelines (Water/Force Mains/Wastewater)\nLunch will be provided by J.F. Creamer\n\nCourse Objectives:\n\n	Gain a comprehensive understanding of various trenchless technology methodologies, including their respective capabilities and limitations.\n	Evaluate and identify the most suitable, cost-effective, and sustainable rehabilitation solutions based on thorough asset assessment.\n\n\nDate and Location:\nMarch 26, 2026 - J. Fletcher Creamer & Son, Joseph T. Walsh Leadership & Training Center, 4806 Route 33, Wall NJ 07753\n \nAccreditation:\nCertified for 5.0 Training Contact Hours for NJ-Licensed Water and Wastewater Operators.  TCH Course Number: 04-082501-30\nCertified for 5.0 Hours (Technical) for Certified Public Works Managers.\nCPWM Number: DLGS-NJWA-291\n\nPlease plan to arrive at 8:00 am.\n** Safety Shoes and Proper Workshop Attire are Required**\n\n \Location:\nJoseph T. Walsh Leadership Training Center\n4806 Route 33\nWall, NJ 07753
X-ALT-DESC;FMTTYPE=text/html:Trenchless Rehabilitation Technologies -#04-082501-30 (Monmouth) <br /><br />03/26/26 08:30 AM EST - 03/26/26 02:45 PM EST<br />Description:<br /><strong>Flexible Fabric-Reinforced Pipe (FFRP) and Spray-in-Place Pipe (SIPP) for Pipelines (Water/Force Mains/Wastewater)</strong><br />
<strong>Lunch will be provided by J.F. Creamer<br />
<br />
<u>Course Objectives:</u></strong>
<ul>
	<li>Gain a comprehensive understanding of various trenchless technology methodologies, including their respective capabilities and limitations.</li>
	<li>Evaluate and identify the most suitable, cost-effective, and sustainable rehabilitation solutions based on thorough asset assessment.</li>
</ul>
<br />
<strong><u>Date and Location:</u></strong><br />
<strong>March 26, 2026 - J. Fletcher Creamer &amp; Son, Joseph T. Walsh Leadership &amp; Training Center, 4806 Route 33, Wall NJ 07753</strong><br />
&nbsp;<br />
<strong><u>Accreditation:</u></strong><br />
Certified for 5.0 Training Contact Hours for NJ-Licensed Water and Wastewater Operators.&nbsp; TCH Course Number: 04-082501-30<br />
Certified for 5.0 Hours (Technical) for Certified Public Works Managers.<br />
CPWM Number: DLGS-NJWA-291<br />
<br />
<strong>Please plan to arrive at 8:00 am.</strong><br />
<strong>** Safety Shoes and Proper Workshop Attire are Required**</strong><br />
<br />
&nbsp;<br />Location:<br />Joseph T. Walsh Leadership Training Center<br />4806 Route 33<br />Wall, NJ 07753
PRIORITY:3
TRANSP:TRANSPARENT
BEGIN:VALARM
TRIGGER:-PT5M
ACTION:DISPLAY
DESCRIPTION:Reminder
END:VALARM
END:VEVENT
END:VCALENDAR
