BEGIN:VCALENDAR
VERSION:2.0
CALSCALE:GREGORIAN
METHOD:PUBLISH
PRODID://NJWA//516522
BEGIN:VEVENT
DTSTAMP:20260424T083539
VTIMEZONE:America/New_York
DTSTART:20260521T123000Z
DTEND:20260521T173000Z
UID:516522
SUMMARY:VALVES: Types, Installation, Operation & Maintenance -#04-122002-30 (Atlantic)
LOCATION:Hammonton Utilities, 45 Pleasant Mills Road (Route 542) , Hammonton, NJ, 08037
DESCRIPTION:VALVES: Types, Installation, Operation & Maintenance -#04-122002-30 (Atlantic)\n\n05/21/26 08:30 AM EST\n - 05/21/26 01:30 PM EST\Description:\nDescription:\nValves are a crucial asset to maintain control over the distribution system. Properly functioning valves are critical to a utility’s operation. This course will provide in-depth instruction of all aspects of the various distribution valves including styles, operation, issues, maintenance, and installation. The discussion will include gate valves, butterfly valves, and check valves.\n\nDate/Location: May 21, 2026 Hammonton Utilities Garage, 45 Pleasant Mills Road (Route 542), Hammonton (Atlantic County)\n\nCertified for 4.0 Training Contact Hours for NJ-Licensed Water and Wastewater Operators.  TCH Course Number: 04-122002-30\nCertified for 4.0 Hours (Technical) for Certified Public Works Managers.\nCPWM Number: DLGS-NJWA-208\n\nDownload Agenda (PDF) \n\n\n \Location:\nHammonton Utilities\n45 Pleasant Mills Road (Route 542) \nHammonton, NJ 08037
X-ALT-DESC;FMTTYPE=text/html:VALVES: Types, Installation, Operation & Maintenance -#04-122002-30 (Atlantic)<br /><br />05/21/26 08:30 AM EST - 05/21/26 01:30 PM EST<br />Description:<br /><u><strong>Description:</strong></u><br />
Valves are a crucial asset to maintain control over the distribution system. Properly functioning valves are critical to a utility&rsquo;s operation. This course will provide in-depth instruction of all aspects of the various distribution valves including styles, operation, issues, maintenance, and installation. The discussion will include gate valves, butterfly valves, and check valves.<br />
<br />
<u><strong>Date/Location:&nbsp;</strong></u><strong>May 21, 2026</strong>&nbsp;<strong>Hammonton</strong> <strong>Utilities Garage, 45 Pleasant Mills Road (Route 542), Hammonton (Atlantic County</strong><strong>)</strong><br />
<br />
Certified for 4.0 Training Contact Hours for NJ-Licensed Water and Wastewater Operators.&nbsp; TCH Course Number: 04-122002-30<br />
Certified for 4.0 Hours (Technical) for Certified Public Works Managers.<br />
CPWM Number: DLGS-NJWA-208<br />
<br />
<a href="https://www.njwater.org/docs/2026-Valves-Clauhs-WallHmntn-May20and_21-4WWW.pdf" target="_blank">Download Agenda (PDF)&nbsp;</a><br />
<br />
<br />
&nbsp;<br />Location:<br />Hammonton Utilities<br />45 Pleasant Mills Road (Route 542) <br />Hammonton, NJ 08037
PRIORITY:3
TRANSP:TRANSPARENT
BEGIN:VALARM
TRIGGER:-PT5M
ACTION:DISPLAY
DESCRIPTION:Reminder
END:VALARM
END:VEVENT
END:VCALENDAR
