BEGIN:VCALENDAR
VERSION:2.0
CALSCALE:GREGORIAN
METHOD:PUBLISH
PRODID://NJWA//516514
BEGIN:VEVENT
DTSTAMP:20260424T082551
VTIMEZONE:America/New_York
DTSTART:20260520T123000Z
DTEND:20260520T173000Z
UID:516514
SUMMARY:VALVES: Types, Installation, Operation & Maintenance -#04-122002-30 (Monmouth)
LOCATION:Wall Township Public Works , 2301 Tilton Corner Road, Wall , NJ
DESCRIPTION:VALVES: Types, Installation, Operation & Maintenance -#04-122002-30 (Monmouth)\n\n05/20/26 08:30 AM EST\n - 05/20/26 01:30 PM EST\Description:\nDescription:\nValves are a crucial asset to maintain control over the distribution system. Properly functioning valves are critical to a utility’s operation. This course will provide in-depth instruction of all aspects of the various distribution valves including styles, operation, issues, maintenance, and installation. The discussion will include gate valves, butterfly valves, and check valves.\n\nDate/Location: May 20, 2026: Wall Township Public Works Garage, 2301 Tiltons Corner Road, Wall (Monmouth County)\n\nCertified for 4.0 Training Contact Hours for NJ-Licensed Water and Wastewater Operators.  TCH Course Number: 04-122002-30\nCertified for 4.0 Hours (Technical) for Certified Public Works Managers.\nCPWM Number: DLGS-NJWA-208\n\nDownload Agenda (PDF) \n\n\n \Location:\nWall Township Public Works \n2301 Tilton Corner Road\nWall , NJ
X-ALT-DESC;FMTTYPE=text/html:VALVES: Types, Installation, Operation & Maintenance -#04-122002-30 (Monmouth)<br /><br />05/20/26 08:30 AM EST - 05/20/26 01:30 PM EST<br />Description:<br /><u><strong>Description:</strong></u><br />
Valves are a crucial asset to maintain control over the distribution system. Properly functioning valves are critical to a utility&rsquo;s operation. This course will provide in-depth instruction of all aspects of the various distribution valves including styles, operation, issues, maintenance, and installation. The discussion will include gate valves, butterfly valves, and check valves.<br />
<br />
<u><strong>Date/Location:</strong></u>&nbsp;<strong><u>May 20, 2026:</u></strong> <strong>Wall Township Public Works Garage, 2301 Tiltons Corner Road, Wall (Monmouth County)</strong><br />
<br />
Certified for 4.0 Training Contact Hours for NJ-Licensed Water and Wastewater Operators.&nbsp; TCH Course Number: 04-122002-30<br />
Certified for 4.0 Hours (Technical) for Certified Public Works Managers.<br />
CPWM Number: DLGS-NJWA-208<br />
<br />
<a href="https://www.njwater.org/docs/2026-Valves-Clauhs-WallHmntn-May20and_21-4WWW.pdf" target="_blank">Download Agenda (PDF)&nbsp;</a><br />
<br />
<br />
&nbsp;<br />Location:<br />Wall Township Public Works <br />2301 Tilton Corner Road<br />Wall , NJ 
PRIORITY:3
TRANSP:TRANSPARENT
BEGIN:VALARM
TRIGGER:-PT5M
ACTION:DISPLAY
DESCRIPTION:Reminder
END:VALARM
END:VEVENT
END:VCALENDAR
