BEGIN:VCALENDAR
VERSION:2.0
CALSCALE:GREGORIAN
METHOD:PUBLISH
PRODID://NJWA//516498
BEGIN:VEVENT
DTSTAMP:20260424T094502
VTIMEZONE:America/New_York
DTSTART:20260507T123000Z
DTEND:20260507T170000Z
UID:516498
SUMMARY:Taste and Odor Control - #04-042602-30 (Ocean)
LOCATION:Barnegat Fire Company, 11 Birdsall Street, Barnegat, NJ
DESCRIPTION:Taste and Odor Control - #04-042602-30 (Ocean)\n\n05/07/26 08:30 AM EST\n - 05/07/26 01:00 PM EST\Description:\nNEW!  Description:  This course will cover the basics, operations and maintenance of wastewater treatment odor control, and taste and odor issues related to public drinking water systems. Participants will gain an understanding of these concepts that will help with their work duties while gaining insights into advancing their operations career. This course will help with taking any water distribution, water treatment or wastewater treatment license.\n\nDate and Location: May 7, 2026, Barnegat Fire Company, 11 Birdsall Street, Barnegat (Ocean County)\n \nAccreditation:\n3.5 Training Contact Hours for NJ-Licensed Water and Wastewater Operators.\nTCH Course Number 04-042602-30\n3.5 Hours toward license renewal for NJ Certified Public Works Managers:\nDLGS-NJWA-310 (3.5 Technical)\n \Location:\nBarnegat Fire Company\n11 Birdsall Street\nBarnegat, NJ
X-ALT-DESC;FMTTYPE=text/html:Taste and Odor Control - #04-042602-30 (Ocean)<br /><br />05/07/26 08:30 AM EST - 05/07/26 01:00 PM EST<br />Description:<br /><strong><u>NEW!</u></strong>&nbsp; <u>Description:</u>&nbsp; This course will cover the basics, operations and maintenance of wastewater treatment odor control, and taste and odor issues related to public drinking water systems. Participants will gain an understanding of these concepts that will help with their work duties while gaining insights into advancing their operations career. This course will help with taking any water distribution, water treatment or wastewater treatment license.<br />
<br />
<u>Date and Location</u>: May 7, 2026, Barnegat Fire Company, 11 Birdsall Street, Barnegat (Ocean County)<br />
&nbsp;<br />
<u>Accreditation:</u><br />
3.5 Training Contact Hours for NJ-Licensed Water and Wastewater Operators.<br />
TCH Course Number 04-042602-30<br />
3.5 Hours toward license renewal for NJ Certified Public Works Managers:<br />
DLGS-NJWA-310 (3.5 Technical)<br />
&nbsp;<br />Location:<br />Barnegat Fire Company<br />11 Birdsall Street<br />Barnegat, NJ 
PRIORITY:3
TRANSP:TRANSPARENT
BEGIN:VALARM
TRIGGER:-PT5M
ACTION:DISPLAY
DESCRIPTION:Reminder
END:VALARM
END:VEVENT
END:VCALENDAR
