BEGIN:VCALENDAR
VERSION:2.0
CALSCALE:GREGORIAN
METHOD:PUBLISH
PRODID://NJWA//516497
BEGIN:VEVENT
DTSTAMP:20260424T082450
VTIMEZONE:America/New_York
DTSTART:20260506T123000Z
DTEND:20260506T160000Z
UID:516497
SUMMARY:Production Wells:  Repair, Redevelop or Replace. Case Studies and Guidance -#04-042601-10 (Mercer)
LOCATION:Hopewell Township Municipal Building, 201 Washington Crossing-Pennington Road, Titusville, NJ, 08560
DESCRIPTION:Production Wells:  Repair, Redevelop or Replace. Case Studies and Guidance -#04-042601-10 (Mercer)\n\n05/06/26 08:30 AM EST\n - 05/06/26 12:00 PM EST\Description:\nCourse Description:\nThe focus will be on (1) A review of basic well terminology; (2) Case studies documenting well redevelopment and repairs; (3) Cost comparisons of repairing vs. replacing wells; (3) The Production Well replacement process – design boring/test well, bidding, construction, regulatory framework, and timing; (4) An overview of well diagnostic programs and well rehabilitation methods; (5) System-wide approach to tracking well performance over time; and (6) Implementing strategies for continuous monitoring for maintenance analysis.  The course will present and discuss topics that are relevant for water utility licensed operators, managers, field staff and consulting engineers.\n\nDate/Location:  May 6, 2026:  Hopewell Township Offices; 201 Washington Crossing – Pennington \nRoad; Titusville, NJ 08560\n\nAccreditation:\n3.0 TCH for NJ-Licensed Water Operators. TCH Course Number 04-042601-10\n3.0 Hours, CPWM, Technical.  DLGS-NJWA-309\n\nDownload Agenda (PDF) \Location:\nHopewell Township Municipal Building\n201 Washington Crossing-Pennington Road\nTitusville, NJ 08560
X-ALT-DESC;FMTTYPE=text/html:Production Wells:  Repair, Redevelop or Replace. Case Studies and Guidance -#04-042601-10 (Mercer)<br /><br />05/06/26 08:30 AM EST - 05/06/26 12:00 PM EST<br />Description:<br /><strong><u>Course Description:</u></strong><br />
The focus will be on (1) A review of basic well terminology; (2) Case studies documenting well redevelopment and repairs; (3) Cost comparisons of repairing vs. replacing wells; (3) The Production Well replacement process &ndash; design boring/test well, bidding, construction, regulatory framework, and timing; (4) An overview of well diagnostic programs and well rehabilitation methods; (5) System-wide approach to tracking well performance over time; and (6) Implementing strategies for continuous monitoring for maintenance analysis. &nbsp;The course will present and discuss topics that are relevant for water utility licensed operators, managers, field staff and consulting engineers.<br />
<br />
<strong><u>Date/Location</u></strong><strong>:&nbsp; May 6, 2026:&nbsp; Hopewell Township Offices; 201 Washington Crossing &ndash; Pennington </strong><br />
<strong>Road; Titusville, NJ 08560</strong><br />
<br />
<strong><u>Accreditation:</u></strong><br />
3.0 TCH for NJ-Licensed Water Operators. TCH Course Number 04-042601-10<br />
3.0 Hours, CPWM, Technical.&nbsp; DLGS-NJWA-309<br />
<br />
<a href="https://www.njwater.org/docs/2026-ProductionWells-UHL-Hopewell-May6-3W.pdf" target="_blank">Download Agenda (PDF)&nbsp;</a><br />Location:<br />Hopewell Township Municipal Building<br />201 Washington Crossing-Pennington Road<br />Titusville, NJ 08560
PRIORITY:3
TRANSP:TRANSPARENT
BEGIN:VALARM
TRIGGER:-PT5M
ACTION:DISPLAY
DESCRIPTION:Reminder
END:VALARM
END:VEVENT
END:VCALENDAR
