BEGIN:VCALENDAR
VERSION:2.0
CALSCALE:GREGORIAN
METHOD:PUBLISH
PRODID://NJWA//494381
BEGIN:VEVENT
DTSTAMP:20260424T111750
VTIMEZONE:America/New_York
DTSTART:20260324T123000Z
DTEND:20260324T160000Z
UID:494381
SUMMARY:NEW COURSE: Contingency Planning in Municipal Operations -#04-032602-30 (Ocean)
LOCATION:Barnegat Fire Company, 11 Birdsall Street, Barnegat, NJ
DESCRIPTION:NEW COURSE: Contingency Planning in Municipal Operations -#04-032602-30 (Ocean)\n\n03/24/26 08:30 AM EST\n - 03/24/26 12:00 PM EST\Description:\nLunch will be provided courtesy of PSI Process\n \nCourse objective:  To assist water and wastewater utility personnel in developing effective contingency plans by applying best practices in design and identifying and addressing potential contingencies in existing systems using commonly available resources.\n \nWho will benefit from this course?  Water and wastewater operators, technicians, engineers, supervisors, foremen and others involved in maintenance and budgeting capital and operating expenses.\n\nDate and Location:\nMarch 24, 2026 – Barnegat Fire Company, 11 Birdsall Street, Barnegat (Ocean County)\n \nAccreditation:\n3.0 TCH Water & WW, Course Number 04-032602-30.  CPWM (3.0 MGT) DLGS-NJWA-306\n\nDownload Agenda (PDF)\n \Location:\nBarnegat Fire Company\n11 Birdsall Street\nBarnegat, NJ
X-ALT-DESC;FMTTYPE=text/html:NEW COURSE: Contingency Planning in Municipal Operations -#04-032602-30 (Ocean)<br /><br />03/24/26 08:30 AM EST - 03/24/26 12:00 PM EST<br />Description:<br /><div style="text-align: center;"><strong>Lunch will be provided courtesy of PSI Process</strong></div>
&nbsp;<br />
<strong><u>Course objective</u></strong>:&nbsp; To assist water and wastewater utility personnel in developing effective contingency plans by applying best practices in design and identifying and addressing potential contingencies in existing systems using commonly available resources.<br />
&nbsp;<br />
<strong><u>Who will benefit from this course?</u></strong>&nbsp; Water and wastewater operators, technicians, engineers, supervisors, foremen and others involved in maintenance and budgeting capital and operating expenses.<br />
<br />
<strong><u>Date and Location:</u></strong><br />
<strong>March 24, 2026</strong><strong> &ndash; Barnegat Fire Company, 11 Birdsall Street, Barnegat (Ocean County)</strong><br />
&nbsp;<br />
<strong><u>Accreditation:</u></strong><br />
3.0 TCH Water &amp; WW, Course Number 04-032602-30.&nbsp; CPWM (3.0 MGT) DLGS-NJWA-306<br />
<br />
<a href="https://www.njwater.org/docs/2026-Contingency_Planning-PSI-Booth-Barnegat-March24-3WWW.pdf" target="_blank">Download Agenda (PDF)</a><br />
&nbsp;<br />Location:<br />Barnegat Fire Company<br />11 Birdsall Street<br />Barnegat, NJ 
PRIORITY:3
TRANSP:TRANSPARENT
BEGIN:VALARM
TRIGGER:-PT5M
ACTION:DISPLAY
DESCRIPTION:Reminder
END:VALARM
END:VEVENT
END:VCALENDAR
