BEGIN:VCALENDAR
VERSION:2.0
CALSCALE:GREGORIAN
METHOD:PUBLISH
PRODID://NJWA//494380
BEGIN:VEVENT
DTSTAMP:20260424T095244
VTIMEZONE:America/New_York
DTSTART:20260312T120000Z
DTEND:20260312T193000Z
UID:494380
SUMMARY:Hands-On Pump Workshop at PSI Processâ€™s Shop -# 04-112401-30 (Middlesex)
LOCATION:PSI Process Facility, 201 Lincoln Blvd., , Middlesex, NJ, 08846
DESCRIPTION:Hands-On Pump Workshop at PSI Processâ€™s Shop -# 04-112401-30 (Middlesex)\n\n03/12/26 08:00 AM EST\n - 03/12/26 03:30 PM EST\Description:\nLunch will be provided by PSI\nCourse objective: This hands-on course teaches technicians practical skills for maintaining pumps. Participants will learn to interpret data plates, understand pump components, read wiring diagrams, and perform tear-downs and rebuilds on pumps. Through a mix of classroom instruction and shop practice, this course equips attendees with the knowledge to confidently maintain and troubleshoot  submersible pumps.\n\nAccreditation:\n6.0 Water & Wastewater TCHs, Course Number:  04-112401-30\n5.0 Technical & 1.0 Managerial CPWM Credits, Course Number: DLGS-NJWA-274\n \nDates and Locations:\nMarch 12, 2026 – PSI Process Facility, 201 Lincoln Blvd, Middlesex, NJ 08846 \n\nNo more than 2 attendees per utility.\n \nPlease plan to arrive at 7:45 am.\n \Location:\nPSI Process Facility\n201 Lincoln Blvd., \nMiddlesex, NJ 08846
X-ALT-DESC;FMTTYPE=text/html:Hands-On Pump Workshop at PSI Processâ€™s Shop -# 04-112401-30 (Middlesex)<br /><br />03/12/26 08:00 AM EST - 03/12/26 03:30 PM EST<br />Description:<br /><div style="text-align: center;"><em>Lunch will be provided by PSI</em></div>
<strong>Course objective</strong>: This hands-on course teaches technicians practical skills for maintaining pumps. Participants will learn to interpret data plates, understand pump components, read wiring diagrams, and perform tear-downs and rebuilds on pumps. Through a mix of classroom instruction and shop practice, this course equips attendees with the knowledge to confidently maintain and troubleshoot &nbsp;submersible pumps.<br />
<br />
<strong>Accreditation:</strong><br />
<strong>6.0</strong> Water &amp; Wastewater TCHs, Course Number: &nbsp;04-112401-30<br />
<strong>5.0</strong> Technical &amp; <strong>1.0</strong> Managerial CPWM Credits, Course Number: DLGS-NJWA-274<br />
&nbsp;<br />
<strong>Dates and Locations:</strong><br />
<strong>March 12, 2026 &ndash; PSI Process Facility, 201 Lincoln Blvd, Middlesex, NJ 08846 </strong><br />
<br />
<strong><u>No more than 2 attendees per utility.</u></strong><br />
&nbsp;<br />
<strong><u>Please plan to arrive at 7:45 am.</u></strong><br />
&nbsp;<br />Location:<br />PSI Process Facility<br />201 Lincoln Blvd., <br />Middlesex, NJ 08846
PRIORITY:3
TRANSP:TRANSPARENT
BEGIN:VALARM
TRIGGER:-PT5M
ACTION:DISPLAY
DESCRIPTION:Reminder
END:VALARM
END:VEVENT
END:VCALENDAR
