BEGIN:VCALENDAR
VERSION:2.0
CALSCALE:GREGORIAN
METHOD:PUBLISH
PRODID://NJWA//494379
BEGIN:VEVENT
DTSTAMP:20260424T095215
VTIMEZONE:America/New_York
DTSTART:20260325T123000Z
DTEND:20260325T170000Z
UID:494379
SUMMARY:Distribution System Water Quality - #04-32601-10 (Morris) 
LOCATION:Mt. Olive Council Chambers, 204 Flanders-Drakestown Road, Flanders, NJ, 07836
DESCRIPTION:Distribution System Water Quality - #04-32601-10 (Morris) \n\n03/25/26 08:30 AM EST\n - 03/25/26 01:00 PM EST\Description:\nDescription:  This course developed by Michael Furrey from ILM Services will cover the basics of a public water distribution system. The instructor will cover the operation and maintenance of a drinking water distribution system and how it relates to water quality. Attendees will get a great understanding of these concepts to help with their work duties while gaining insights into advancing their operations career. This course will help with taking any water distribution or treatment license.\n\nDate and Location:\nMarch 25th 2026, Mount Olive Council Chambers, 204 Flanders-Drakestown Road, Flanders (Morris County)\n\nAccreditation:\n4.0 Training Contact Hours for NJ-Licensed Water Operators.\nTCH Course Number 04-032601-10\n4.0 Hours toward license renewal for NJ Certified Public Works Managers:\nDLGS-NJWA-305 (4.0 Technical)\n\n Please plan to arrive at 8:00 am.\nNo more than four registrants per employer or system.\n\n \Location:\nMt. Olive Council Chambers\n204 Flanders-Drakestown Road\nFlanders, NJ 07836
X-ALT-DESC;FMTTYPE=text/html:Distribution System Water Quality - #04-32601-10 (Morris) <br /><br />03/25/26 08:30 AM EST - 03/25/26 01:00 PM EST<br />Description:<br /><strong><u>Description:</u></strong><strong>&nbsp; </strong>This course developed by Michael Furrey from ILM Services will cover the basics of a public water distribution system. The instructor will cover the operation and maintenance of a drinking water distribution system and how it relates to water quality. Attendees will get a great understanding of these concepts to help with their work duties while gaining insights into advancing their operations career. This course will help with taking any water distribution or treatment license.<br />
<br />
<strong><u>Date and Location:</u></strong><br />
<strong>March 25<sup>th</sup> 2026, Mount Olive Council Chambers, 204 Flanders-Drakestown Road, Flanders (Morris County)</strong><br />
<br />
<strong><u>Accreditation:</u></strong><br />
4.0 Training Contact Hours for NJ-Licensed Water Operators.<br />
TCH Course Number 04-032601-10<br />
4.0 Hours toward license renewal for NJ Certified Public Works Managers:<br />
DLGS-NJWA-305 (4.0 Technical)<br />
<br />
&nbsp;<strong>Please plan to arrive at 8:00 am.</strong><br />
<strong>No more than four registrants per employer or system.</strong><br />
<br />
&nbsp;<br />Location:<br />Mt. Olive Council Chambers<br />204 Flanders-Drakestown Road<br />Flanders, NJ 07836
PRIORITY:3
TRANSP:TRANSPARENT
BEGIN:VALARM
TRIGGER:-PT5M
ACTION:DISPLAY
DESCRIPTION:Reminder
END:VALARM
END:VEVENT
END:VCALENDAR
