BEGIN:VCALENDAR
VERSION:2.0
CALSCALE:GREGORIAN
METHOD:PUBLISH
PRODID://NJWA//482321
BEGIN:VEVENT
DTSTAMP:20260424T124549
VTIMEZONE:America/New_York
DTSTART:20260218T133000Z
DTEND:20260218T170000Z
UID:482321
SUMMARY:Ethics for Operators and Certified Public Works Managers-#04-022202-30 (Mercer Cty) 
LOCATION:Hopewell Township Municipal Building, 201 Washington Crossing-Pennington Road, Titusville, NJ, 08560
DESCRIPTION:Ethics for Operators and Certified Public Works Managers-#04-022202-30 (Mercer Cty) \n\n02/18/26 08:30 AM EST\n - 02/18/26 12:00 PM EST\Description:\nEthics for Operators and Certified Public Works Managers \n \nCourse Description:\nEthical obligations and challenges are a part of the everyday life of every professional conducting business in this world. In particular, water professionals and publics works managers, who necessarily come into contact with the public on a daily basis, have a high standard to meet as they are insuring the safe and reliable delivery of drinking water and collection and treatment of wastewater. The health, safety, and welfare of the public, namely the customers and stakeholders to which we answer, takes precedence over all other matters.\n \nThis course will be beneficial to licensed water and wastewater operators, certified public works managers, and professional engineers. This course will satisfy ethics training requirements for S,C, T, W, and N license holders, CPWMs, and PEs.\n\nDate and Location:\nFebruary 18, 2026 – Hopewell Township  Municipal Building, 201 Washington Crossing–Pennington Road, Titusville, 08560.  (Mercer County).\nSession will be held in the Auditorium, inside the main entrance.\n \nAccreditation:\n3.0 Training Contact Hour for NJ-Licensed Water/Wastewater Operators.  TCH Course Number 04-022202-30\n3.0 Hour towards license renewal for NJ Certified Public Works Managers: DLGS-NJWA-227 (3.0 Ethics)\n\nDownload Agenda (PDF)\n \Location:\nHopewell Township Municipal Building\n201 Washington Crossing-Pennington Road\nTitusville, NJ 08560
X-ALT-DESC;FMTTYPE=text/html:Ethics for Operators and Certified Public Works Managers-#04-022202-30 (Mercer Cty) <br /><br />02/18/26 08:30 AM EST - 02/18/26 12:00 PM EST<br />Description:<br /><strong><u>Ethics for Operators and Certified Public Works Managers </u></strong><br />
&nbsp;<br />
<strong><u>Course Description:</u></strong><br />
Ethical obligations and challenges are a part of the everyday life of every professional conducting business in this world. In particular, water professionals and publics works managers, who necessarily come into contact with the public on a daily basis, have a high standard to meet as they are insuring the safe and reliable delivery of drinking water and collection and treatment of wastewater. The health, safety, and welfare of the public, namely the customers and stakeholders to which we answer, takes precedence over all other matters.<br />
&nbsp;<br />
This course will be beneficial to licensed water and wastewater operators, certified public works managers, and professional engineers. This course will satisfy ethics training requirements for S,C, T, W, and N license holders, CPWMs, and PEs.<br />
<br />
<strong><u>Date and Location:</u></strong><br />
<strong>February 18, 2026 &ndash; Hopewell Township &nbsp;Municipal Building, 201 Washington Crossing&ndash;Pennington Road, Titusville, 08560. &nbsp;(Mercer County).</strong><br />
<strong>Session will be held in the Auditorium, inside the main entrance.</strong><br />
&nbsp;<br />
<strong><u>Accreditation:</u></strong><br />
3.0 Training Contact Hour for NJ-Licensed Water/Wastewater Operators.&nbsp; TCH Course Number 04-022202-30<br />
3.0 Hour towards license renewal for NJ Certified Public Works Managers: DLGS-NJWA-227 (3.0 Ethics)<br />
<br />
<a href="https://www.njwater.org/docs/2026-Ethics-Applegate-Hopewell-Feb18-3WWW.pdf" target="_blank">Download Agenda (PDF)</a><br />
&nbsp;<br />Location:<br />Hopewell Township Municipal Building<br />201 Washington Crossing-Pennington Road<br />Titusville, NJ 08560
PRIORITY:3
TRANSP:TRANSPARENT
BEGIN:VALARM
TRIGGER:-PT5M
ACTION:DISPLAY
DESCRIPTION:Reminder
END:VALARM
END:VEVENT
END:VCALENDAR
