BEGIN:VCALENDAR
VERSION:2.0
CALSCALE:GREGORIAN
METHOD:PUBLISH
PRODID://NJWA//482315
BEGIN:VEVENT
DTSTAMP:20260424T141641
VTIMEZONE:America/New_York
DTSTART:20260210T133000Z
DTEND:20260210T171500Z
UID:482315
SUMMARY:Asset Management and Asset Maintenance:  Pipelines, Tanks, Distribution System Assets -#01-102001-30 (Mercer Cty) 
LOCATION:Hopewell Township Municipal Building, 201 Washington Crossing-Pennington Road, Titusville, NJ, 08560
DESCRIPTION:Asset Management and Asset Maintenance:  Pipelines, Tanks, Distribution System Assets -#01-102001-30 (Mercer Cty) \n\n02/10/26 08:30 AM EST\n - 02/10/26 12:15 PM EST\Description:\nPresented by The New Jersey Water Association and USG Water Solutions. \n\nLunch Included, Compliments of USG Water \nCourse Description:\nDiscussion of pipeline asset management SIPP and pipeline maintenance that meets WQAA standards. Specifically, rehabilitation of water mains and potable pipelines using SIPP (Spray-In-Place-Pipe) technology. Discussions of tank asset management and maintaining all assets from the water treatment plant, distribution system (specifically water storage tanks and reservoirs), and the way to the wastewater plant. Considerations for inspection process of all assets.  Improving water quality within a distribution system and storage tanks including TTHM removal, active, and residual chlorine control systems. Brief overview of asset management aspects of the water system.\n\nAccreditation: \n3.0 TCH for NJ-Licensed Water and Wastewater Operators. TCH Course Number 04-102001-30.\n3.0 Hours, CPWM.  2.0 Technical, 1.0 Management.  DLGS-NJWA-205\n \nDates and Locations:\nFebruary 10, 2026 – Hopewell Township Municipal Building, 201 Washington Crossing–Pennington Road, Titusville, 08560.  (Mercer County).\n\nDownload Agenda (PDF)\n \Location:\nHopewell Township Municipal Building\n201 Washington Crossing-Pennington Road\nTitusville, NJ 08560
X-ALT-DESC;FMTTYPE=text/html:Asset Management and Asset Maintenance:  Pipelines, Tanks, Distribution System Assets -#01-102001-30 (Mercer Cty) <br /><br />02/10/26 08:30 AM EST - 02/10/26 12:15 PM EST<br />Description:<br /><div style="text-align: center;"><strong>Presented by The New Jersey Water Association and USG Water Solutions. </strong></div>

<div style="text-align: center;"><strong><u>Lunch Included, Compliments of USG Water </u></strong></div>
<strong><u>Course Description:</u></strong><br />
Discussion of pipeline asset management SIPP and pipeline maintenance that meets WQAA standards. Specifically, rehabilitation of water mains and potable pipelines using SIPP (Spray-In-Place-Pipe) technology. Discussions of tank asset management and maintaining all assets from the water treatment plant, distribution system (specifically water storage tanks and reservoirs), and the way to the wastewater plant. Considerations for inspection process of all assets. &nbsp;Improving water quality within a distribution system and storage tanks including TTHM removal, active, and residual chlorine control systems. Brief overview of asset management aspects of the water system.<br />
<br />
<strong><u>Accreditation: </u></strong><br />
3.0 TCH for NJ-Licensed Water and Wastewater Operators. TCH Course Number 04-102001-30.<br />
3.0 Hours, CPWM.&nbsp; 2.0 Technical, 1.0 Management.&nbsp; DLGS-NJWA-205<br />
&nbsp;<br />
<strong><u>Dates and Locations:</u></strong><br />
<strong><u>February 10, 2026</u></strong><strong> &ndash; Hopewell Township Municipal Building, 201 Washington Crossing&ndash;Pennington Road, Titusville, 08560.&nbsp; (Mercer County).</strong><br />
<br />
<a href="https://www.njwater.org/docs/2026-AssetMgt-USG-HopewellRiverdale-Feb_10_and_11-3WWW.pdf" target="_blank">Download Agenda (PDF)</a><br />
&nbsp;<br />Location:<br />Hopewell Township Municipal Building<br />201 Washington Crossing-Pennington Road<br />Titusville, NJ 08560
PRIORITY:3
TRANSP:TRANSPARENT
BEGIN:VALARM
TRIGGER:-PT5M
ACTION:DISPLAY
DESCRIPTION:Reminder
END:VALARM
END:VEVENT
END:VCALENDAR
