BEGIN:VCALENDAR
VERSION:2.0
CALSCALE:GREGORIAN
METHOD:PUBLISH
PRODID://NJWA//479810
BEGIN:VEVENT
DTSTAMP:20260424T141147
VTIMEZONE:America/New_York
DTSTART:20260122T133000Z
DTEND:20260122T173000Z
UID:479810
SUMMARY:NJWC - PFAS Treatment Planning from A to Z -TCH# 04-022601-01 (Morris, County) 
LOCATION:Boonton Senior Center, 126 North Main Street, Boonton, NJ, 07005
DESCRIPTION:NJWC - PFAS Treatment Planning from A to Z -TCH# 04-022601-01 (Morris, County) \n\n01/22/26 08:30 AM EST\n - 01/22/26 12:30 PM EST\Description:\nNorth Jersey Water Conference and the New Jersey Water Association \nAt the Boonton Senior Center, Boonton, NJ\nThursday, January 22, 2026\n \nMorning refreshments and lunch will be provided.\n \nCourse Description:\nAs compliance with the USEPA PFAS Regulations will be here before we know it – this class is intended to provide an overall planning guide for anyone who will need to add treatment to remove PFAS from their source water.  \n\nAccreditation:\n3.0 Training Contact Hours for NJ-Licensed Water Operators.  TCH# 04-022601-01\nCertified Public Works Managers: DLGS-NJWA-303 (3.0 Technical)\n \nDate and Location:\nThursday, January 22, 2026 at the Boonton Senior Center, 126 North Main Street, Boonton, Morris County\n\nDownload Agenda (PDF) \Location:\nBoonton Senior Center\n126 North Main Street\nBoonton, NJ 07005
X-ALT-DESC;FMTTYPE=text/html:NJWC - PFAS Treatment Planning from A to Z -TCH# 04-022601-01 (Morris, County) <br /><br />01/22/26 08:30 AM EST - 01/22/26 12:30 PM EST<br />Description:<br /><strong><u>North Jersey Water Conference and the New Jersey Water Association </u></strong><br />
<strong>At the Boonton Senior Center, Boonton, NJ</strong><br />
<strong>Thursday, January 22, 2026</strong><br />
&nbsp;<br />
<strong>Morning refreshments and lunch will be provided.</strong><br />
&nbsp;<br />
<strong><u>Course Description:</u></strong><br />
As compliance with the USEPA PFAS Regulations will be here before we know it &ndash; this class is intended to provide an overall planning guide for anyone who will need to add treatment to remove PFAS from their source water.&nbsp;&nbsp;<br />
<br />
<strong><u>Accreditation:</u></strong><br />
3.0 Training Contact Hours for NJ-Licensed Water Operators.&nbsp; TCH# 04-022601-01<br />
Certified Public Works Managers: DLGS-NJWA-303 (3.0 Technical)<br />
&nbsp;<br />
<strong><u>Date and Location:</u></strong><br />
Thursday, January 22, 2026 at the Boonton Senior Center, 126 North Main Street, Boonton, Morris County<br />
<br />
<a href="https://www.njwater.org/docs/2026-PFAS-NJWC-Suburb-Boonton-Jan22-3W.pdf">Download Agenda (PDF)&nbsp;</a><br />Location:<br />Boonton Senior Center<br />126 North Main Street<br />Boonton, NJ 07005
PRIORITY:3
TRANSP:TRANSPARENT
BEGIN:VALARM
TRIGGER:-PT5M
ACTION:DISPLAY
DESCRIPTION:Reminder
END:VALARM
END:VEVENT
END:VCALENDAR
