BEGIN:VCALENDAR
VERSION:2.0
CALSCALE:GREGORIAN
METHOD:PUBLISH
PRODID://NJWA//470265
BEGIN:VEVENT
DTSTAMP:20260424T155040
VTIMEZONE:America/New_York
DTSTART:20251217T133000Z
DTEND:20251217T183000Z
UID:470265
SUMMARY:Back to the Basics â€“ Water and Wastewater Chemistry -#04-032501-30 - (Morris County) 
LOCATION:Mt. Olive Council Chambers, 204 Flanders-Drakestown Road, Flanders, NJ, 07836
DESCRIPTION:Back to the Basics â€“ Water and Wastewater Chemistry -#04-032501-30 - (Morris County) \n\n12/17/25 08:30 AM EST\n - 12/17/25 01:30 PM EST\Description:\nDescription:  This course developed by Michael Furrey from ILM Services will cover the basics of water and wastewater chemistry. The instructor will cover the basic chemistry for disinfection, chemical removal for surface water, groundwater and wastewater. Special emphasis will be placed on the chemistry of emerging contaminants of concern in our environment as well as the chemicals used in treatment.\n\nInstructor: Michael J Furrey is the former Owner/President and private consultant of a NJDEP certified laboratory called Agra \nEnvironmental and Laboratory Services after working for12 years for a major public water utility, the North Jersey \nDistrict Water Commission. He is the founder of ILM Services. He is a 1987 graduate of Cook College, Rutgers \nUniversity with a BS in Environmental Chemistry. \n\nDate and Location:\nDecember 17, 2025 – Mount Olive Council Chambers, 204 Flanders-Drakestown Rd, Flanders (Morris County)\n\nAccreditation:\n4.0 Training Contact Hours for NJ-Licensed Water/Wastewater Operators. TCH Course Number 04-032501-30\n4.0 Hours toward license renewal for NJ Certified Public Works Managers: DLGS-NJWA-281 (4.0 Technical)\nDownload Agenda (PDF) \n \Location:\nMt. Olive Council Chambers\n204 Flanders-Drakestown Road\nFlanders, NJ 07836
X-ALT-DESC;FMTTYPE=text/html:Back to the Basics â€“ Water and Wastewater Chemistry -#04-032501-30 - (Morris County) <br /><br />12/17/25 08:30 AM EST - 12/17/25 01:30 PM EST<br />Description:<br /><strong><u>Description:</u></strong>&nbsp; <strong>This course developed by Michael Furrey from ILM Services will cover the basics of water and wastewater chemistry. The instructor will cover the basic chemistry for disinfection, chemical removal for surface water, groundwater and wastewater. Special emphasis will be placed on the chemistry of emerging contaminants of concern in our environment as well as the chemicals used in treatment.</strong><br />
<br />
<strong><u>Instructor:</u></strong> Michael J Furrey is the former Owner/President and private consultant of a NJDEP certified laboratory called Agra&nbsp;<br />
Environmental and Laboratory Services after working for12 years for a major public water utility, the North Jersey&nbsp;<br />
District Water Commission. He is the founder of ILM Services. He is a 1987 graduate of Cook College, Rutgers&nbsp;<br />
University with a BS in Environmental Chemistry.&nbsp;<br />
<br />
<strong><u>Date and Location:</u></strong><br />
<strong>December 17, 2025 &ndash; Mount Olive Council Chambers, 204 Flanders-Drakestown Rd, Flanders (Morris County)</strong><br />
<br />
<strong><u>Accreditation:</u></strong><br />
4.0 Training Contact Hours for NJ-Licensed Water/Wastewater Operators. TCH Course Number 04-032501-30<br />
4.0 Hours toward license renewal for NJ Certified Public Works Managers: DLGS-NJWA-281 (4.0 Technical)<br />
<a href="https://www.njwater.org/docs/REV_1.0_2025-Chemistry-Furrey-HammontonMtOlive-Dec16_17-4.0WWW_002_002.pdf" target="_blank">Download Agenda (PDF)&nbsp;</a><br />
&nbsp;<br />Location:<br />Mt. Olive Council Chambers<br />204 Flanders-Drakestown Road<br />Flanders, NJ 07836
PRIORITY:3
TRANSP:TRANSPARENT
BEGIN:VALARM
TRIGGER:-PT5M
ACTION:DISPLAY
DESCRIPTION:Reminder
END:VALARM
END:VEVENT
END:VCALENDAR
