BEGIN:VCALENDAR
VERSION:2.0
CALSCALE:GREGORIAN
METHOD:PUBLISH
PRODID://NJWA//470264
BEGIN:VEVENT
DTSTAMP:20260424T155128
VTIMEZONE:America/New_York
DTSTART:20251216T133000Z
DTEND:20251216T183000Z
UID:470264
SUMMARY:Back to the Basics â€“ Water and Wastewater Chemistry -#04-032501-30 - (Atlantic County) 
LOCATION:Hammonton Canoe Club, 100 Sports Drive, Hammonton, NJ, 08037
DESCRIPTION:Back to the Basics â€“ Water and Wastewater Chemistry -#04-032501-30 - (Atlantic County) \n\n12/16/25 08:30 AM EST\n - 12/16/25 01:30 PM EST\Description:\nDescription:  This course developed by Michael Furrey from ILM Service and will cover the basics of water and wastewater chemistry. The instructor will cover the basic chemistry for disinfection, chemical removal for surface water, groundwater and wastewater. Special emphasis will be placed on the chemistry of emerging contaminants of concern in our environment as well as the chemicals used in treatment.\n\nInstructor: Michael J. Furrey, ILM Academy\nMichael J Furrey is the former Owner/President and private consultant of a NJDEP certified laboratory called Agra \nEnvironmental and Laboratory Services after working for12 years for a major public water utility, the North Jersey \nDistrict Water Commission. He is the founder of ILM Services. He is a 1987 graduate of Cook College, Rutgers \nUniversity with a BS in Environmental Chemistry. \nDate and Location:\nDecember 16, 2025 – Hammonton Canoe Club, 100 Sports Drive, Hammonton (Atlantic County)\n\nAccreditation:\n4.0 Training Contact Hours for NJ-Licensed Water/Wastewater Operators. TCH Course Number 04-032501-30\n4.0 Hours toward license renewal for NJ Certified Public Works Managers: DLGS-NJWA-281 (4.0 Technical)\nDownload Agenda (PDF) \n \Location:\nHammonton Canoe Club\n100 Sports Drive\nHammonton, NJ 08037
X-ALT-DESC;FMTTYPE=text/html:Back to the Basics â€“ Water and Wastewater Chemistry -#04-032501-30 - (Atlantic County) <br /><br />12/16/25 08:30 AM EST - 12/16/25 01:30 PM EST<br />Description:<br /><strong><u>Description:</u></strong>&nbsp; <strong>This course developed by Michael Furrey from ILM Service and&nbsp;will cover the basics of water and wastewater chemistry. The instructor will cover the basic chemistry for disinfection, chemical removal for surface water, groundwater and wastewater. Special emphasis will be placed on the chemistry of emerging contaminants of concern in our environment as well as the chemicals used in treatment.</strong><br />
<br />
<strong><u>Instructor:</u></strong> Michael J. Furrey, ILM Academy<br />
Michael J Furrey is the former Owner/President and private consultant of a NJDEP certified laboratory called Agra&nbsp;<br />
Environmental and Laboratory Services after working for12 years for a major public water utility, the North Jersey&nbsp;<br />
District Water Commission. He is the founder of ILM Services. He is a 1987 graduate of Cook College, Rutgers&nbsp;<br />
University with a BS in Environmental Chemistry.&nbsp;<br />
<strong><u>Date and Location:</u></strong><br />
<strong>December 16, 2025 &ndash; Hammonton Canoe Club, 100 Sports Drive, Hammonton (Atlantic County)</strong><br />
<br />
<strong><u>Accreditation:</u></strong><br />
4.0 Training Contact Hours for NJ-Licensed Water/Wastewater Operators. TCH Course Number 04-032501-30<br />
4.0 Hours toward license renewal for NJ Certified Public Works Managers: DLGS-NJWA-281 (4.0 Technical)<br />
<a href="https://www.njwater.org/docs/REV_1.0_2025-Chemistry-Furrey-HammontonMtOlive-Dec16_17-4.0WWW_002_002.pdf" target="_blank">Download Agenda (PDF)&nbsp;</a><br />
&nbsp;<br />Location:<br />Hammonton Canoe Club<br />100 Sports Drive<br />Hammonton, NJ 08037
PRIORITY:3
TRANSP:TRANSPARENT
BEGIN:VALARM
TRIGGER:-PT5M
ACTION:DISPLAY
DESCRIPTION:Reminder
END:VALARM
END:VEVENT
END:VCALENDAR
