BEGIN:VCALENDAR
VERSION:2.0
CALSCALE:GREGORIAN
METHOD:PUBLISH
PRODID://NJWA//467097
BEGIN:VEVENT
DTSTAMP:20260424T171919
VTIMEZONE:America/New_York
DTSTART:20251204T130000Z
DTEND:20251204T203000Z
UID:467097
SUMMARY:Hands-On Pump Workshop at PSI Processâ€™s Shop -#04-112401-30 (Middlesex County) 
LOCATION:PSI Process Facility, 201 Lincoln Blvd., , Middlesex, NJ, 08846
DESCRIPTION:Hands-On Pump Workshop at PSI Processâ€™s Shop -#04-112401-30 (Middlesex County) \n\n12/04/25 08:00 AM EST\n - 12/04/25 03:30 PM EST\Description:\nCourse objective: This hands-on course teaches technicians practical skills for maintaining pumps. Participants will learn to interpret data plates, understand pump components, read wiring diagrams, and perform tear-downs and rebuilds on pumps. Through a mix of classroom instruction and shop practice, this course equips attendees with the knowledge to confidently maintain and troubleshoot  submersible pumps.\n\nAccreditation:\n6.0 Water & Wastewater TCHs, Course Number:  04-112401-30\n5.0 Technical & 1.0 Managerial CPWM Credits, Course Number: DLGS-NJWA-274\n \nDates and Locations:\nDecember 4, 2025 – PSI Process Facility, 201 Lincoln Blvd, Middlesex, NJ 08846\n\nDownload Agenda (PDF) \Location:\nPSI Process Facility\n201 Lincoln Blvd., \nMiddlesex, NJ 08846
X-ALT-DESC;FMTTYPE=text/html:Hands-On Pump Workshop at PSI Processâ€™s Shop -#04-112401-30 (Middlesex County) <br /><br />12/04/25 08:00 AM EST - 12/04/25 03:30 PM EST<br />Description:<br /><u><strong>Course objective</strong></u>: This hands-on course teaches technicians practical skills for maintaining pumps. Participants will learn to interpret data plates, understand pump components, read wiring diagrams, and perform tear-downs and rebuilds on pumps. Through a mix of classroom instruction and shop practice, this course equips attendees with the knowledge to confidently maintain and troubleshoot &nbsp;submersible pumps.<br />
<br />
<strong>Accreditation:</strong><br />
<strong>6.0</strong> Water &amp; Wastewater TCHs, Course Number: &nbsp;04-112401-30<br />
<strong>5.0</strong> Technical &amp; <strong>1.0</strong> Managerial CPWM Credits, Course Number: DLGS-NJWA-274<br />
&nbsp;<br />
<strong>Dates and Locations:</strong><br />
December 4, 2025<strong> &ndash; </strong>PSI Process Facility, 201 Lincoln Blvd, Middlesex, NJ 08846<br />
<br />
<a href="https://www.njwater.org/docs/2025-Hands-On_Pump_Workshop-PSI-Booth-Middlesex-Dec4-6WWW.pdf" target="_blank">Download Agenda (PDF)&nbsp;</a><br />Location:<br />PSI Process Facility<br />201 Lincoln Blvd., <br />Middlesex, NJ 08846
PRIORITY:3
TRANSP:TRANSPARENT
BEGIN:VALARM
TRIGGER:-PT5M
ACTION:DISPLAY
DESCRIPTION:Reminder
END:VALARM
END:VEVENT
END:VCALENDAR
