BEGIN:VCALENDAR
VERSION:2.0
CALSCALE:GREGORIAN
METHOD:PUBLISH
PRODID://NJWA//464383
BEGIN:VEVENT
DTSTAMP:20260424T201622
VTIMEZONE:America/New_York
DTSTART:20251118T133000Z
DTEND:20251118T170000Z
UID:464383
SUMMARY:Locating & Documenting Non-Metallic Buried Utilities-#04-012101-30 (Morris County) 
LOCATION:Boonton Senior Center, 126 North Main Street, Boonton, NJ, 07005
DESCRIPTION:Locating & Documenting Non-Metallic Buried Utilities-#04-012101-30 (Morris County) \n\n11/18/25 08:30 AM EST\n - 11/18/25 12:00 PM EST\Description:\nCourse Description:\nThis workshop will benefit those who are involved in the location of underground utilities with an emphasis on non-metallic lines, those who supervise staff who provide utility locating services, and those who are responsible for selecting or purchasing utility locating equipment.\nThe session will begin with a classroom discussion of technologies and equipment available for locating non-metallic utilities and will also include a module on preserving this information for use in a GIS system.\nWeather permitting, some time will be spent outdoors utilizing some of the equipment discussed in the classroom session, including a brief GPR & GPS location demo, and hands-on use of the equipment.\nThe seminar might be postponed due to severe weather. \n\nDates and Locations:\nNovember 18, 2025, Boonton Senior Center - 126 North Main Street, Boonton, NJ 07005\n(Morris County)\n \nAccreditation:\n3.0 Training Contact Hours for NJ-Licensed Water/Wastewater Operators.  TCH Course Number 04-012101-30\n3.0 Hours toward license renewal for NJ Certified Public Works Managers: DLGS-NJWA-209 (3.0 Technical)\n\n\n \Location:\nBoonton Senior Center\n126 North Main Street\nBoonton, NJ 07005
X-ALT-DESC;FMTTYPE=text/html:Locating & Documenting Non-Metallic Buried Utilities-#04-012101-30 (Morris County) <br /><br />11/18/25 08:30 AM EST - 11/18/25 12:00 PM EST<br />Description:<br /><strong><u>Course Description:</u></strong><br />
This workshop will benefit those who are involved in the location of underground utilities with an emphasis on non-metallic lines, those who supervise staff who provide utility locating services, and those who are responsible for selecting or purchasing utility locating equipment.<br />
The session will begin with a classroom discussion of technologies and equipment available for locating non-metallic utilities and will also include a module on preserving this information for use in a GIS system.<br />
Weather permitting, some time will be spent outdoors utilizing some of the equipment discussed in the classroom session, including a brief GPR &amp; GPS location demo, and hands-on use of the equipment.<br />
The seminar might be postponed due to severe weather.&nbsp;<br />
<br />
<strong><u>Dates and Locations:</u></strong><br />
<strong>November 18, 2025, </strong><strong>Boonton Senior Center - 126 North Main Street, Boonton, NJ 07005</strong><br />
<strong>(Morris County)</strong><br />
&nbsp;<br />
<strong><u>Accreditation:</u></strong><br />
3.0 Training Contact Hours for NJ-Licensed Water/Wastewater Operators.&nbsp; TCH Course Number 04-012101-30<br />
3.0 Hours toward license renewal for NJ Certified Public Works Managers: DLGS-NJWA-209 (3.0 Technical)<br />
<br />
<br />
&nbsp;<br />Location:<br />Boonton Senior Center<br />126 North Main Street<br />Boonton, NJ 07005
PRIORITY:3
TRANSP:TRANSPARENT
BEGIN:VALARM
TRIGGER:-PT5M
ACTION:DISPLAY
DESCRIPTION:Reminder
END:VALARM
END:VEVENT
END:VCALENDAR
