BEGIN:VCALENDAR
VERSION:2.0
CALSCALE:GREGORIAN
METHOD:PUBLISH
PRODID://NJWA//462659
BEGIN:VEVENT
DTSTAMP:20260424T173726
VTIMEZONE:America/New_York
DTSTART:20251125T133000Z
DTEND:20251125T170000Z
UID:462659
SUMMARY:Corrosion Control and Water Quality: A Holistic Approach to Phosphate Treatment  -#04-072302-30 (Atlantic County) 
LOCATION:Hammonton Canoe Club, 100 Sports Drive, Hammonton, NJ, 08037
DESCRIPTION:Corrosion Control and Water Quality: A Holistic Approach to Phosphate Treatment  -#04-072302-30 (Atlantic County) \n\n11/25/25 08:30 AM EST\n - 11/25/25 12:00 PM EST\Description:\nDescription: \nAn anticipated impact of the lead & copper rule revision is an increase in both the overall use, and concentration of corrosion additives. This class will help with understanding how CCT decisions can affect the greater environment around us and specifically how those decisions impact both drinking and wastewater chemical treatments. By utilizing equilibrium-blended phosphate, utilities can control corrosion by using up to 90% less phosphorus while minimizing the impacts of chemical treatment decisions as a whole.\n\nInstructors:\nMatt Tyrrell is the RSM for the Mid-Atlantic Region for Aqua Smart Inc. Mechanical Engineer and former Marine having over 10 years of experience in the water industry. Matt lives in Philadelphia with his wife and two stepdaughters who live nearby.\n \nLocations and Dates:\nNovember 25, 2025 – Hammonton Canoe Club, 100 Sports Drive, Hammonton (Atlantic County)\n \nAccreditation:\n3.0 Training Contact Hours for NJ-Licensed Water/Wastewater Operators:\nTCH Course Number 04-072302-30\n3.0 Hours toward license renewal for NJ Certified Public Works Managers:\nDLGS-NJWA-251 (3.0 Technical)\n\nDownload Agenda (PDF)\n \Location:\nHammonton Canoe Club\n100 Sports Drive\nHammonton, NJ 08037
X-ALT-DESC;FMTTYPE=text/html:Corrosion Control and Water Quality: A Holistic Approach to Phosphate Treatment  -#04-072302-30 (Atlantic County) <br /><br />11/25/25 08:30 AM EST - 11/25/25 12:00 PM EST<br />Description:<br /><strong><u>Description:</u></strong>&nbsp;<br />
An anticipated impact of the lead &amp; copper rule revision is an increase in both the overall use, and concentration of corrosion additives. This class will help with understanding how CCT decisions can affect the greater environment around us and specifically how those decisions impact both drinking and wastewater chemical treatments. By utilizing equilibrium-blended phosphate, utilities can control corrosion by using up to 90% less phosphorus while minimizing the impacts of chemical treatment decisions as a whole.<br />
<br />
<strong><u>Instructors:</u></strong><br />
Matt Tyrrell is the RSM for the Mid-Atlantic Region for Aqua Smart Inc. Mechanical Engineer and former Marine having over 10 years of experience in the water industry. Matt lives in Philadelphia with his wife and two stepdaughters who live nearby.<br />
&nbsp;<br />
<strong><u>Locations and Dates:</u></strong><br />
<strong>November 25, 2025 &ndash; Hammonton Canoe Club, 100 Sports Drive, Hammonton (Atlantic County)</strong><br />
&nbsp;<br />
<strong><u>Accreditation:</u></strong><br />
3.0 Training Contact Hours for NJ-Licensed Water/Wastewater Operators:<br />
TCH Course Number 04-072302-30<br />
3.0 Hours toward license renewal for NJ Certified Public Works Managers:<br />
DLGS-NJWA-251 (3.0 Technical)<br />
<br />
<a href="https://www.njwater.org/docs/2025-Phosphates-Tyrell-HammontonCC-November_25-3www.pdf" target="_blank">Download Agenda (PDF)</a><br />
&nbsp;<br />Location:<br />Hammonton Canoe Club<br />100 Sports Drive<br />Hammonton, NJ 08037
PRIORITY:3
TRANSP:TRANSPARENT
BEGIN:VALARM
TRIGGER:-PT5M
ACTION:DISPLAY
DESCRIPTION:Reminder
END:VALARM
END:VEVENT
END:VCALENDAR
