BEGIN:VCALENDAR
VERSION:2.0
CALSCALE:GREGORIAN
METHOD:PUBLISH
PRODID://NJWA//462657
BEGIN:VEVENT
DTSTAMP:20260424T185128
VTIMEZONE:America/New_York
DTSTART:20251113T133000Z
DTEND:20251113T183000Z
UID:462657
SUMMARY:Distribution System Maintenance: Pipe Repair, Service Line Taps, Repairs and Installation -#04-072503-30 (Hunterdon County) 
LOCATION:Hampton Borough Fire Department, 1 Wells Ave. , Hampton, NJ
DESCRIPTION:Distribution System Maintenance: Pipe Repair, Service Line Taps, Repairs and Installation -#04-072503-30 (Hunterdon County) \n\n11/13/25 08:30 AM EST\n - 11/13/25 01:30 PM EST\Description:\nWater main breaks are an unfortunate occurrence in the distribution system. This course will cover common causes and solutions to address this issue. Service line leaks and repairs are another problem that operators must respond to. The course will also include in-depth coverage of service lines, from taps, to maintenance, and installation.\n\nA complimentary lunch will be provided by Mueller.\n\nInstructors: Andy Clauhs, Mueller and Pete Carpenter, Mueller/Hymax\n \nNovember 13, 2025 – Hampton Borough Fire Department, 1 Wells Ave., Hampton Borough. Upstairs.\nPark behind Emergency Squad (EMS) Building, Corner of Wells Ave. and South St.\n\n\nCertified for 4.0 Training Contact Hours for NJ-Licensed Water and Wastewater Operators.  TCH Course Number: 04-072503-30\nCertified for 4.0 Hours (Technical) for Certified Public Works Managers.\nCPWM Number: DLGS-NJWA-290\n\nDownload Agenda (PDF) \Location:\nHampton Borough Fire Department\n1 Wells Ave. \nHampton, NJ
X-ALT-DESC;FMTTYPE=text/html:Distribution System Maintenance: Pipe Repair, Service Line Taps, Repairs and Installation -#04-072503-30 (Hunterdon County) <br /><br />11/13/25 08:30 AM EST - 11/13/25 01:30 PM EST<br />Description:<br /><strong>Water main breaks are an unfortunate occurrence in the distribution system. This course will cover common causes and solutions to address this issue. Service line leaks and repairs are another problem that operators must respond to. The course will also include in-depth coverage of service lines, from taps, to maintenance, and installation.</strong><br />
<br />
<strong>A complimentary lunch will be provided by Mueller.</strong><br />
<br />
<strong>Instructors: Andy Clauhs, Mueller and Pete Carpenter, Mueller/Hymax</strong><br />
&nbsp;<br />
<strong><u>November 13, 2025</u></strong><strong> &ndash; Hampton Borough Fire</strong><strong> Department, 1 Wells Ave., Hampton Borough. Upstairs.</strong><br />
<u><strong>Park behind Emergency Squad (EMS) Building, Corner of Wells Ave. and South St.</strong></u><br />
<br />
<br />
<strong>Certified for 4.0 Training Contact Hours for NJ-Licensed Water and Wastewater Operators.&nbsp; TCH Course Number: 04-072503-30</strong><br />
<strong>Certified for 4.0 Hours (Technical) for Certified Public Works Managers.</strong><br />
<strong>CPWM Number: DLGS-NJWA-290</strong><br />
<br />
<a href="https://www.njwater.org/docs/2025-PipeRepair-ClauhsCarpenter-EHC-Hampton-Nov12and13-4WWW.pdf" target="_blank">Download Agenda (PDF)&nbsp;</a><br />Location:<br />Hampton Borough Fire Department<br />1 Wells Ave. <br />Hampton, NJ 
PRIORITY:3
TRANSP:TRANSPARENT
BEGIN:VALARM
TRIGGER:-PT5M
ACTION:DISPLAY
DESCRIPTION:Reminder
END:VALARM
END:VEVENT
END:VCALENDAR
