BEGIN:VCALENDAR
VERSION:2.0
CALSCALE:GREGORIAN
METHOD:PUBLISH
PRODID://NJWA//462656
BEGIN:VEVENT
DTSTAMP:20260424T202045
VTIMEZONE:America/New_York
DTSTART:20251112T133000Z
DTEND:20251112T183000Z
UID:462656
SUMMARY:Distribution System Maintenance: Pipe Repair, Service Line Taps, Repairs and Installation -#04-072503-30 (Atlantic County) 
LOCATION:Egg Harbor City Fire Department, 631 Philadelphia Avenue, Egg Harbor City, NJ, 08215
DESCRIPTION:Distribution System Maintenance: Pipe Repair, Service Line Taps, Repairs and Installation -#04-072503-30 (Atlantic County) \n\n11/12/25 08:30 AM EST\n - 11/12/25 01:30 PM EST\Description:\nWater main breaks are an unfortunate occurrence in the distribution system. This course will cover common causes and solutions to address this issue. Service line leaks and repairs are another problem that operators must respond to. The course will also include in-depth coverage of service lines, from taps, to maintenance, and installation.\n\nA complimentary lunch will be provided by Mueller.\n\nInstructors: Andy Clauhs, Mueller and Pete Carpenter, Mueller/Hymax\n \nNovember 12, 2025 – Egg Harbor City Fire Department, 631 Philadelphia Ave., (Atlantic County)\n\nCertified for 4.0 Training Contact Hours for NJ-Licensed Water and Wastewater Operators.  TCH Course Number: 04-072503-30\nCertified for 4.0 Hours (Technical) for Certified Public Works Managers.\nCPWM Number: DLGS-NJWA-290\n\nDownload Agenda (PDF) \Location:\nEgg Harbor City Fire Department\n631 Philadelphia Avenue\nEgg Harbor City, NJ 08215
X-ALT-DESC;FMTTYPE=text/html:Distribution System Maintenance: Pipe Repair, Service Line Taps, Repairs and Installation -#04-072503-30 (Atlantic County) <br /><br />11/12/25 08:30 AM EST - 11/12/25 01:30 PM EST<br />Description:<br /><strong>Water main breaks are an unfortunate occurrence in the distribution system. This course will cover common causes and solutions to address this issue. Service line leaks and repairs are another problem that operators must respond to. The course will also include in-depth coverage of service lines, from taps, to maintenance, and installation.</strong><br />
<br />
<strong>A complimentary lunch will be provided by Mueller.</strong><br />
<br />
<strong>Instructors: Andy Clauhs, Mueller and Pete Carpenter, Mueller/Hymax</strong><br />
&nbsp;<br />
<strong><u>November 12, 2025</u></strong><strong> &ndash; Egg Harbor City Fire Department, 631 Philadelphia Ave., </strong><strong>(Atlantic County)</strong><br />
<br />
<strong>Certified for 4.0 Training Contact Hours for NJ-Licensed Water and Wastewater Operators.&nbsp; TCH Course Number: 04-072503-30</strong><br />
<strong>Certified for 4.0 Hours (Technical) for Certified Public Works Managers.</strong><br />
<strong>CPWM Number: DLGS-NJWA-290</strong><br />
<br />
<a href="https://www.njwater.org/docs/2025-PipeRepair-ClauhsCarpenter-EHC-Hampton-Nov12and13-4WWW.pdf" target="_blank">Download Agenda (PDF)&nbsp;</a><br />Location:<br />Egg Harbor City Fire Department<br />631 Philadelphia Avenue<br />Egg Harbor City, NJ 08215
PRIORITY:3
TRANSP:TRANSPARENT
BEGIN:VALARM
TRIGGER:-PT5M
ACTION:DISPLAY
DESCRIPTION:Reminder
END:VALARM
END:VEVENT
END:VCALENDAR
