BEGIN:VCALENDAR
VERSION:2.0
CALSCALE:GREGORIAN
METHOD:PUBLISH
PRODID://NJWA//462655
BEGIN:VEVENT
DTSTAMP:20260424T201821
VTIMEZONE:America/New_York
DTSTART:20251105T133000Z
DTEND:20251105T170000Z
UID:462655
SUMMARY:Production Wells:  Repair, Redevelop or Replace.  Case Studies and Guidance -#04-102507-10 (Ocean County) 
LOCATION:Barnegat Fire Company, 11 Birdsall Street, Barnegat, NJ
DESCRIPTION:Production Wells:  Repair, Redevelop or Replace.  Case Studies and Guidance -#04-102507-10 (Ocean County) \n\n11/05/25 08:30 AM EST\n - 11/05/25 12:00 PM EST\Description:\nNEW COURSE                Production Wells: Repair, Redevelop or Replace.  Case Studies and Guidance\n \nLunch is Included (Sponsored by Sevee & Maher Engineers - UHL & Associates)\n\nCourse Description:\nThe focus will be on (1) A review of basic well terminology; (2) Case studies documenting well redevelopment and repairs; (3) Cost comparisons of repairing vs. replacing a well; (3) The Production Well replacement process – design boring/test well, bidding, construction, regulatory framework, and timing; (4) An overview of well diagnostic programs and well rehabilitation methods; and (5) Implementing strategies for continuous monitoring for maintenance analysis.  The course will present and discuss topics that are relevant for water utility licensed operators, managers, field staff and consulting engineers.\n\nDate and Location:  November 5, 2025:  11 Birdsall Street, Barnegat, NJ (Firehouse)\n \nInstructors:\nVincent W. Uhl, PH, PG.  UHL & Associates, Inc.  B.S. Mechanical Engineering, Univ. of Notre Dame; M.S. Agricultural Engineering, Oklahoma State Univ.; M.S. Hydrogeology, Univ. of Arizona.\nSky Morehouse, PE.  Morehouse Engineering, Inc.:  B.S. Mechanical Engineering, University of Pennsylvania.\nAshish Daw, Senior Hydrogeologist and GIS Expert – UHL & Associates, Inc. B.Sc. Geology, Pune University, India; M.Sc. Applied Geology, Anna University, India.\n \nAccreditation:\n3.0 TCH for NJ-Licensed Water Operators. TCH Course Number 04-102507-10\n3.0 Hours, CPWM, Technical.  DLGS-NJWA-301\n\nDownload Agenda (PDF) \n\n \Location:\nBarnegat Fire Company\n11 Birdsall Street\nBarnegat, NJ
X-ALT-DESC;FMTTYPE=text/html:Production Wells:  Repair, Redevelop or Replace.  Case Studies and Guidance -#04-102507-10 (Ocean County) <br /><br />11/05/25 08:30 AM EST - 11/05/25 12:00 PM EST<br />Description:<br /><strong><u>NEW COURSE</u></strong><strong>&nbsp;&nbsp;&nbsp;&nbsp;&nbsp; &nbsp;&nbsp;&nbsp;&nbsp;&nbsp;&nbsp;&nbsp;&nbsp;&nbsp; <u>Production Wells:&nbsp;</u></strong><strong><u>Repair, Redevelop or Replace.&nbsp; Case Studies and Guidance</u></strong><br />
&nbsp;<br />
<strong><u>Lunch is Included (Sponsored by Sevee &amp; Maher Engineers - UHL &amp; Associates)<br />
<br />
Course Description:</u></strong><br />
The focus will be on (1) A review of basic well terminology; (2) Case studies documenting well redevelopment and repairs; (3) Cost comparisons of repairing vs. replacing a well; (3) The Production Well replacement process &ndash; design boring/test well, bidding, construction, regulatory framework, and timing; (4) An overview of well diagnostic programs and well rehabilitation methods; and (5) Implementing strategies for continuous monitoring for maintenance analysis. &nbsp;The course will present and discuss topics that are relevant for water utility licensed operators, managers, field staff and consulting engineers.<br />
<br />
<strong><u>Date and Location</u></strong><strong>:&nbsp; November 5, 2025:&nbsp; 11 Birdsall Street, Barnegat, NJ (Firehouse)</strong><br />
&nbsp;<br />
<strong><u>Instructors:</u></strong><br />
Vincent W. Uhl, PH, PG.&nbsp; UHL &amp; Associates, Inc.&nbsp; B.S. Mechanical Engineering, Univ. of Notre Dame; M.S. Agricultural Engineering, Oklahoma State Univ.; M.S. Hydrogeology, Univ. of Arizona.<br />
Sky Morehouse, PE.&nbsp; Morehouse Engineering, Inc.:&nbsp; B.S. Mechanical Engineering, University of Pennsylvania.<br />
Ashish Daw, Senior Hydrogeologist and GIS Expert &ndash; UHL &amp; Associates, Inc. B.Sc. Geology, Pune University, India; M.Sc. Applied Geology, Anna University, India.<br />
&nbsp;<br />
<strong><u>Accreditation:</u></strong><br />
3.0 TCH for NJ-Licensed Water Operators. TCH Course Number 04-102507-10<br />
3.0 Hours, CPWM, Technical.&nbsp; DLGS-NJWA-301<br />
<br />
<a href="https://www.njwater.org/docs/Wells_Asset_Management-UHL-Barnegat-NEW-November_5-2025.pdf" target="_blank">Download Agenda (PDF)&nbsp;</a><br />
<br />
&nbsp;<br />Location:<br />Barnegat Fire Company<br />11 Birdsall Street<br />Barnegat, NJ 
PRIORITY:3
TRANSP:TRANSPARENT
BEGIN:VALARM
TRIGGER:-PT5M
ACTION:DISPLAY
DESCRIPTION:Reminder
END:VALARM
END:VEVENT
END:VCALENDAR
